BEGIN:VCALENDAR
VERSION:2.0
METHOD:PUBLISH
PRODID:-//Accessible Web Design//My Calendar//http://www.joedolson.com//v//EN';
BEGIN:VEVENT
UID:19-17
LOCATION:
SUMMARY:Conférence - Thème: La santé: levier majeur du succès entrepreneurial
DTSTAMP:20221111T200000
ORGANIZER;CN=Tim:MAILTO:sigamt@hotmail.com
DTSTART:20221111T200000
DTEND:20221111T210000
CATEGORIES:General
URL;VALUE=URI:https://reseaubienetrebusiness.ch/mc-events/conference-theme-la-sante-levier-majeur-du-succes-entrepreneurial/?mc_id=19
DESCRIPTION:
END:VEVENT
END:VCALENDAR