BEGIN:VCALENDAR
VERSION:2.0
METHOD:PUBLISH
PRODID:-//Accessible Web Design//My Calendar//http://www.joedolson.com//v//EN';
BEGIN:VEVENT
UID:23-20
LOCATION:
SUMMARY:Grand événement: lancement officiel du Réseau Bien Etre Business
DTSTAMP:20221229T190000
ORGANIZER;CN=Tim:MAILTO:sigamt@hotmail.com
DTSTART:20221229T190000
DTEND:20221229T220000
CATEGORIES:General
URL;VALUE=URI:https://reseaubienetrebusiness.ch/mc-events/grand-evenement-lancement-officiel-du-reseau-bien-etre-business/?mc_id=23
DESCRIPTION:Vous voulez tout savoir sur RBB - alors vous êtes cordialement toutes et tous invités.
END:VEVENT
END:VCALENDAR