BEGIN:VCALENDAR
VERSION:2.0
METHOD:PUBLISH
PRODID:-//Accessible Web Design//My Calendar//http://www.joedolson.com//v//EN';
BEGIN:VEVENT
UID:26-23
LOCATION:
SUMMARY:Présentation des Projets: Suivi collectif personnalisé
DTSTAMP:20230113T190000
ORGANIZER;CN=Tim:MAILTO:sigamt@hotmail.com
DTSTART:20230113T190000
DTEND:20230113T203000
CATEGORIES:General
URL;VALUE=URI:https://reseaubienetrebusiness.ch/mc-events/presentation-des-projets-suivi-collectif-personnalise/?mc_id=26
DESCRIPTION:
END:VEVENT
END:VCALENDAR