BEGIN:VCALENDAR
VERSION:2.0
METHOD:PUBLISH
PRODID:-//Accessible Web Design//My Calendar//http://www.joedolson.com//v//EN';
BEGIN:VEVENT
UID:29-26
LOCATION:
SUMMARY:Rencontre avec les leaders RBB Cameroun
DTSTAMP:20230126T200000
ORGANIZER;CN=Tim:MAILTO:sigamt@hotmail.com
DTSTART:20230126T200000
DTEND:20230126T213000
CATEGORIES:General
URL;VALUE=URI:https://reseaubienetrebusiness.ch/mc-events/rencontre-avec-les-leaders-rbb-cameroun/?mc_id=29
DESCRIPTION:
END:VEVENT
END:VCALENDAR