BEGIN:VCALENDAR
VERSION:2.0
METHOD:PUBLISH
PRODID:-//Accessible Web Design//My Calendar//http://www.joedolson.com//v//EN';
BEGIN:VEVENT
UID:31-27
LOCATION:
SUMMARY:Rencontre avec les futurs membres Club d'Investisseur
DTSTAMP:20230123T200000
ORGANIZER;CN=Tim:MAILTO:sigamt@hotmail.com
DTSTART:20230123T200000
DTEND:20230123T213000
CATEGORIES:General
URL;VALUE=URI:https://reseaubienetrebusiness.ch/mc-events/rencontre-avec-les-futurs-membres-club-dinvestisseur/?mc_id=31
DESCRIPTION:
END:VEVENT
END:VCALENDAR