BEGIN:VCALENDAR
VERSION:2.0
METHOD:PUBLISH
PRODID:-//Accessible Web Design//My Calendar//http://www.joedolson.com//v//EN';
BEGIN:VEVENT
UID:33-29
LOCATION:
SUMMARY:Rencontre avec les leaders et formateurs
DTSTAMP:20230117T200000
ORGANIZER;CN=Tim:MAILTO:sigamt@hotmail.com
DTSTART:20230117T200000
DTEND:20230117T213000
CATEGORIES:General
URL;VALUE=URI:https://reseaubienetrebusiness.ch/mc-events/rencontre-avec-les-leaders-et-formateurs/?mc_id=33
DESCRIPTION:
END:VEVENT
END:VCALENDAR