BEGIN:VCALENDAR
VERSION:2.0
METHOD:PUBLISH
PRODID:-//Accessible Web Design//My Calendar//http://www.joedolson.com//v//EN';
BEGIN:VEVENT
UID:34-30
LOCATION:
SUMMARY:Première RDV Club-d'Investisseur
DTSTAMP:20230201T200000
ORGANIZER;CN=Tim:MAILTO:sigamt@hotmail.com
DTSTART:20230201T200000
DTEND:20230201T213000
CATEGORIES:General
URL;VALUE=URI:https://reseaubienetrebusiness.ch/mc-events/premiere-rdv-club-dinvestisseur/?mc_id=34
DESCRIPTION:
END:VEVENT
END:VCALENDAR