BEGIN:VCALENDAR
VERSION:2.0
METHOD:PUBLISH
PRODID:-//Accessible Web Design//My Calendar//http://www.joedolson.com//v//EN';
BEGIN:VEVENT
UID:37-32
LOCATION:
SUMMARY:Atelier workshop en présentiel prévu dès 09 h 00.
DTSTAMP:20230225T090000
ORGANIZER;CN=Tim:MAILTO:sigamt@hotmail.com
DTSTART:20230225T090000
DTEND:20230225T130000
CATEGORIES:General
URL;VALUE=URI:https://reseaubienetrebusiness.ch/mc-events/atelier-workshop-en-presentiel-prevu-des-09-h-00/?mc_id=37
DESCRIPTION:
END:VEVENT
END:VCALENDAR