BEGIN:VCALENDAR
VERSION:2.0
METHOD:PUBLISH
PRODID:-//Accessible Web Design//My Calendar//http://www.joedolson.com//v//EN';
BEGIN:VEVENT
UID:43-38
LOCATION:
SUMMARY:Rencontre d'affaire: Saisir les opportunités d’affaire et d’investissement (abonnés et invités)
DTSTAMP:20230421T200000
ORGANIZER;CN=Tim:MAILTO:sigamt@hotmail.com
DTSTART:20230421T200000
DTEND:20230421T213000
CATEGORIES:General
URL;VALUE=URI:https://reseaubienetrebusiness.ch/mc-events/rencontre-daffaire-saisir-les-opportunites-daffaire-et-dinvestissement-abonnes-et-invites-5/?mc_id=43
DESCRIPTION:
END:VEVENT
END:VCALENDAR