BEGIN:VCALENDAR
VERSION:2.0
METHOD:PUBLISH
PRODID:-//Accessible Web Design//My Calendar//http://www.joedolson.com//v//EN';
BEGIN:VEVENT
UID:44-39
LOCATION:
SUMMARY:Conférence - Thème: Comment faire du marketing digital un atout pour réussir en tant qu'entrepreneur.
DTSTAMP:20230428T200000
ORGANIZER;CN=Tim:MAILTO:sigamt@hotmail.com
DTSTART:20230428T200000
DTEND:20230428T210000
CATEGORIES:General
URL;VALUE=URI:https://reseaubienetrebusiness.ch/mc-events/conference-theme-comment-faire-du-marketing-digital-un-atout-pour-reussir-en-tant-quentrepreneur/?mc_id=44
DESCRIPTION:Orateur: Mr. Désiré Noubarassem
END:VEVENT
END:VCALENDAR