BEGIN:VCALENDAR
VERSION:2.0
METHOD:PUBLISH
PRODID:-//Accessible Web Design//My Calendar//http://www.joedolson.com//v//EN';
BEGIN:VEVENT
UID:51-45
LOCATION:
SUMMARY:Atelier Entreprenarial - Histoire de ma Vie - Mme Rose N'guessan
DTSTAMP:20230512T200000
ORGANIZER;CN=Tim:MAILTO:sigamt@hotmail.com
DTSTART:20230512T200000
DTEND:20230512T213000
CATEGORIES:General
URL;VALUE=URI:https://reseaubienetrebusiness.ch/mc-events/atelier-entreprenarial-histoire-de-ma-vie-mme-rose-nguessan/?mc_id=51
DESCRIPTION:
END:VEVENT
END:VCALENDAR