BEGIN:VCALENDAR
VERSION:2.0
METHOD:PUBLISH
PRODID:-//Accessible Web Design//My Calendar//http://www.joedolson.com//v//EN';
BEGIN:VEVENT
UID:52-46
LOCATION:
SUMMARY:Atelier Entreprenarial - Mme Diane Wilson
DTSTAMP:20230526T200000
ORGANIZER;CN=Tim:MAILTO:sigamt@hotmail.com
DTSTART:20230526T200000
DTEND:20230526T213000
CATEGORIES:General
URL;VALUE=URI:https://reseaubienetrebusiness.ch/mc-events/atelier-entreprenarial-mme-diane-wilson/?mc_id=52
DESCRIPTION:
END:VEVENT
END:VCALENDAR