BEGIN:VCALENDAR
VERSION:2.0
METHOD:PUBLISH
PRODID:-//Accessible Web Design//My Calendar//http://www.joedolson.com//v//EN';
BEGIN:VEVENT
UID:53-47
LOCATION:
SUMMARY:Rencontre Collaborateurs Club d'Investisseur RBB
DTSTAMP:20230618T180000
ORGANIZER;CN=Tim:MAILTO:sigamt@hotmail.com
DTSTART:20230618T180000
DTEND:20230618T200000
CATEGORIES:General
URL;VALUE=URI:https://reseaubienetrebusiness.ch/mc-events/rencontre-collaborateurs-club-dinvestisseur-rbb/?mc_id=53
DESCRIPTION:
END:VEVENT
END:VCALENDAR