BEGIN:VCALENDAR
VERSION:2.0
METHOD:PUBLISH
PRODID:-//Accessible Web Design//My Calendar//http://www.joedolson.com//v//EN';
BEGIN:VEVENT
UID:55-49
LOCATION:
SUMMARY:Cloture - Atelier Bilan Objectif de Vie
DTSTAMP:20230614T200000
ORGANIZER;CN=Tim:MAILTO:sigamt@hotmail.com
DTSTART:20230614T200000
DTEND:20230614T220000
CATEGORIES:General
URL;VALUE=URI:https://reseaubienetrebusiness.ch/mc-events/cloture-atelier-bilan-objectif-de-vie/?mc_id=55
DESCRIPTION:
END:VEVENT
END:VCALENDAR