BEGIN:VCALENDAR
VERSION:2.0
METHOD:PUBLISH
PRODID:-//Accessible Web Design//My Calendar//http://www.joedolson.com//v//EN';
BEGIN:VEVENT
UID:56-50
LOCATION:
SUMMARY:Conférence - Thème: 𝗟'𝗮𝗿𝘁 𝗱𝗲 𝗰𝗼𝗺𝗺𝘂𝗻𝗶𝗾𝘂𝗲𝗿 𝗹𝗮 𝘃𝗶𝘀𝗶𝗼𝗻 𝗲𝗻 𝘁𝗮𝗻𝘁 𝗾𝘂𝗲 𝗟𝗲𝗮𝗱𝗲𝗿 - Samirath
DTSTAMP:20230609T200000
ORGANIZER;CN=Tim:MAILTO:sigamt@hotmail.com
DTSTART:20230609T200000
DTEND:20230609T213000
CATEGORIES:General
URL;VALUE=URI:https://reseaubienetrebusiness.ch/mc-events/conference-theme-𝗟𝗮𝗿𝘁-𝗱𝗲-𝗰𝗼𝗺𝗺𝘂𝗻𝗶𝗾/?mc_id=56
DESCRIPTION:
END:VEVENT
END:VCALENDAR