BEGIN:VCALENDAR
VERSION:2.0
METHOD:PUBLISH
PRODID:-//Accessible Web Design//My Calendar//http://www.joedolson.com//v//EN';
BEGIN:VEVENT
UID:57-51
LOCATION:
SUMMARY:Rencontre d'affaire: Saisir les opportunités d’affaire et d’investissement (abonnés et invités)
DTSTAMP:20230616T200000
ORGANIZER;CN=Tim:MAILTO:sigamt@hotmail.com
DTSTART:20230616T200000
DTEND:20230616T213000
CATEGORIES:General
URL;VALUE=URI:https://reseaubienetrebusiness.ch/mc-events/rencontre-daffaire-saisir-les-opportunites-daffaire-et-dinvestissement-abonnes-et-invites-9/?mc_id=57
DESCRIPTION:
END:VEVENT
END:VCALENDAR