BEGIN:VCALENDAR
VERSION:2.0
METHOD:PUBLISH
PRODID:-//Accessible Web Design//My Calendar//http://www.joedolson.com//v//EN';
BEGIN:VEVENT
UID:59-53
LOCATION:
SUMMARY:1er Atelier sur le Leadership
DTSTAMP:20230621T200000
ORGANIZER;CN=Tim:MAILTO:sigamt@hotmail.com
DTSTART:20230621T200000
DTEND:20230621T213000
CATEGORIES:General
URL;VALUE=URI:https://reseaubienetrebusiness.ch/mc-events/1er-atelier-sur-le-leadership/?mc_id=59
DESCRIPTION:
END:VEVENT
END:VCALENDAR