BEGIN:VCALENDAR
VERSION:2.0
METHOD:PUBLISH
PRODID:-//Accessible Web Design//My Calendar//http://www.joedolson.com//v//EN';
BEGIN:VEVENT
UID:65-58
LOCATION:
SUMMARY:1er Zoom RBB Gabon
DTSTAMP:20230731T200000
ORGANIZER;CN=Tim:MAILTO:sigamt@hotmail.com
DTSTART:20230731T200000
DTEND:20230731T213000
CATEGORIES:General
URL;VALUE=URI:https://reseaubienetrebusiness.ch/mc-events/1er-zoom-rbb-gabon/?mc_id=65
DESCRIPTION:
END:VEVENT
END:VCALENDAR