BEGIN:VCALENDAR
VERSION:2.0
METHOD:PUBLISH
PRODID:-//Accessible Web Design//My Calendar//http://www.joedolson.com//v//EN';
BEGIN:VEVENT
UID:67-60
LOCATION:
SUMMARY:Atelier Présentation de projet 3 - Fin
DTSTAMP:20230803T200000
ORGANIZER;CN=Tim:MAILTO:sigamt@hotmail.com
DTSTART:20230803T200000
DTEND:20230803T213000
CATEGORIES:General
URL;VALUE=URI:https://reseaubienetrebusiness.ch/mc-events/atelier-presentation-de-projet-3-fin/?mc_id=67
DESCRIPTION:
END:VEVENT
END:VCALENDAR