BEGIN:VCALENDAR
VERSION:2.0
METHOD:PUBLISH
PRODID:-//Accessible Web Design//My Calendar//http://www.joedolson.com//v//EN';
BEGIN:VEVENT
UID:70-63
LOCATION:
SUMMARY:Atelier bilan/objectif 2
DTSTAMP:20230809T200000
ORGANIZER;CN=Tim:MAILTO:sigamt@hotmail.com
DTSTART:20230809T200000
DTEND:20230809T213000
CATEGORIES:General
URL;VALUE=URI:https://reseaubienetrebusiness.ch/mc-events/atelier-bilan-objectif-2/?mc_id=70
DESCRIPTION:
END:VEVENT
END:VCALENDAR