BEGIN:VCALENDAR
VERSION:2.0
METHOD:PUBLISH
PRODID:-//Accessible Web Design//My Calendar//http://www.joedolson.com//v//EN';
BEGIN:VEVENT
UID:71-64
LOCATION:
SUMMARY:Atelier bilan/objectif 3
DTSTAMP:20230816T200000
ORGANIZER;CN=Tim:MAILTO:sigamt@hotmail.com
DTSTART:20230816T200000
DTEND:20230816T213000
CATEGORIES:General
URL;VALUE=URI:https://reseaubienetrebusiness.ch/mc-events/atelier-bilan-objectif-3/?mc_id=71
DESCRIPTION:
END:VEVENT
END:VCALENDAR