BEGIN:VCALENDAR
VERSION:2.0
METHOD:PUBLISH
PRODID:-//Accessible Web Design//My Calendar//http://www.joedolson.com//v//EN';
BEGIN:VEVENT
UID:72-65
LOCATION:
SUMMARY:Atelier bilan/objectif 4
DTSTAMP:20230823T200000
ORGANIZER;CN=Tim:MAILTO:sigamt@hotmail.com
DTSTART:20230823T200000
DTEND:20230823T213000
CATEGORIES:General
URL;VALUE=URI:https://reseaubienetrebusiness.ch/mc-events/atelier-bilan-objectif-4/?mc_id=72
DESCRIPTION:
END:VEVENT
END:VCALENDAR