BEGIN:VCALENDAR
VERSION:2.0
METHOD:PUBLISH
PRODID:-//Accessible Web Design//My Calendar//http://www.joedolson.com//v//EN';
BEGIN:VEVENT
UID:73-66
LOCATION:
SUMMARY:Atelier bilan/objectif 5
DTSTAMP:20230830T200000
ORGANIZER;CN=Tim:MAILTO:sigamt@hotmail.com
DTSTART:20230830T200000
DTEND:20230830T213000
CATEGORIES:General
URL;VALUE=URI:https://reseaubienetrebusiness.ch/mc-events/atelier-bilan-objectif-5/?mc_id=73
DESCRIPTION:
END:VEVENT
END:VCALENDAR