BEGIN:VCALENDAR
VERSION:2.0
METHOD:PUBLISH
PRODID:-//Accessible Web Design//My Calendar//http://www.joedolson.com//v//EN';
BEGIN:VEVENT
UID:74-67
LOCATION:
SUMMARY:Atelier Art-Oratoire 1
DTSTAMP:20230810T200000
ORGANIZER;CN=Tim:MAILTO:sigamt@hotmail.com
DTSTART:20230810T200000
DTEND:20230810T213000
CATEGORIES:General
URL;VALUE=URI:https://reseaubienetrebusiness.ch/mc-events/atelier-art-oratoire-1/?mc_id=74
DESCRIPTION:
END:VEVENT
END:VCALENDAR