BEGIN:VCALENDAR
VERSION:2.0
METHOD:PUBLISH
PRODID:-//Accessible Web Design//My Calendar//http://www.joedolson.com//v//EN';
BEGIN:VEVENT
UID:75-68
LOCATION:
SUMMARY:Atelier Art-Oratoire 2
DTSTAMP:20230817T200000
ORGANIZER;CN=Tim:MAILTO:sigamt@hotmail.com
DTSTART:20230817T200000
DTEND:20230817T213000
CATEGORIES:General
URL;VALUE=URI:https://reseaubienetrebusiness.ch/mc-events/atelier-art-oratoire-2/?mc_id=75
DESCRIPTION:
END:VEVENT
END:VCALENDAR