BEGIN:VCALENDAR
VERSION:2.0
METHOD:PUBLISH
PRODID:-//Accessible Web Design//My Calendar//http://www.joedolson.com//v//EN';
BEGIN:VEVENT
UID:76-69
LOCATION:
SUMMARY:Atelier Art-Oratoire 3
DTSTAMP:20230824T200000
ORGANIZER;CN=Tim:MAILTO:sigamt@hotmail.com
DTSTART:20230824T200000
DTEND:20230824T213000
CATEGORIES:General
URL;VALUE=URI:https://reseaubienetrebusiness.ch/mc-events/atelier-art-oratoire-3/?mc_id=76
DESCRIPTION:
END:VEVENT
END:VCALENDAR