BEGIN:VCALENDAR
VERSION:2.0
METHOD:PUBLISH
PRODID:-//Accessible Web Design//My Calendar//http://www.joedolson.com//v//EN';
BEGIN:VEVENT
UID:78-71
LOCATION:
SUMMARY:Atelier Bilan/Objectif 7 - Fin
DTSTAMP:20230913T200000
ORGANIZER;CN=Tim:MAILTO:sigamt@hotmail.com
DTSTART:20230913T200000
DTEND:20230913T213000
CATEGORIES:General
URL;VALUE=URI:https://reseaubienetrebusiness.ch/mc-events/atelier-bilan-objectif-7-fin/?mc_id=78
DESCRIPTION:
END:VEVENT
END:VCALENDAR