BEGIN:VCALENDAR
VERSION:2.0
METHOD:PUBLISH
PRODID:-//Accessible Web Design//My Calendar//http://www.joedolson.com//v//EN';
BEGIN:VEVENT
UID:8-7
LOCATION:
SUMMARY:Conférence - Thème: Les Points Essentiels À Maitriser Avant De Se Lancer Dans L'entreprenariat: Cas De L'agropastoral -- Conférencier: M. Wilfried Foka
DTSTAMP:20221013T200000
ORGANIZER;CN=Tim:MAILTO:sigamt@hotmail.com
DTSTART:20221013T200000
DTEND:20221013T210000
CATEGORIES:General
URL;VALUE=URI:https://reseaubienetrebusiness.ch/mc-events/conference-theme-les-points-essentiels-a-maitriser-avant-de-se-lancer-dans-lentreprenariat-cas-de-lagropastoral-conferencier-m-wilfried-foka/?mc_id=8
DESCRIPTION:
END:VEVENT
END:VCALENDAR