BEGIN:VCALENDAR
VERSION:2.0
METHOD:PUBLISH
PRODID:-//Accessible Web Design//My Calendar//http://www.joedolson.com//v//EN';
BEGIN:VEVENT
UID:20-18
LOCATION:
SUMMARY:Conférence - Thème: A définir
DTSTAMP:20221125T200000
ORGANIZER;CN=Tim:MAILTO:sigamt@hotmail.com
DTSTART:20221125T200000
DTEND:20221125T210000
CATEGORIES:General
URL;VALUE=URI:https://reseaubienetrebusiness.ch/mc-events/conference-theme-a-definir/?mc_id=20
DESCRIPTION:
END:VEVENT
END:VCALENDAR