BEGIN:VCALENDAR
VERSION:2.0
METHOD:PUBLISH
PRODID:-//Accessible Web Design//My Calendar//http://www.joedolson.com//v//EN';
BEGIN:VEVENT
UID:30-24
LOCATION:
SUMMARY:Rencontre avec les leaders RBB BÉNIN
DTSTAMP:20230112T200000
ORGANIZER;CN=Tim:MAILTO:sigamt@hotmail.com
DTSTART:20230112T200000
DTEND:20230112T213000
CATEGORIES:General
URL;VALUE=URI:https://reseaubienetrebusiness.ch/mc-events/rencontre-avec-les-leaders-rbb-benin/?mc_id=30
DESCRIPTION:
END:VEVENT
END:VCALENDAR