BEGIN:VCALENDAR
VERSION:2.0
METHOD:PUBLISH
PRODID:-//Accessible Web Design//My Calendar//http://www.joedolson.com//v//EN';
BEGIN:VEVENT
UID:32-28
LOCATION:
SUMMARY:Accompagnement Ateliers:  Bilan/objectifs
DTSTAMP:20230209T200000
ORGANIZER;CN=Tim:MAILTO:sigamt@hotmail.com
DTSTART:20230209T200000
DTEND:20230209T213000
CATEGORIES:General
URL;VALUE=URI:https://reseaubienetrebusiness.ch/mc-events/accompagnement-ateliers-bilan-objectifs/?mc_id=32
DESCRIPTION:
END:VEVENT
END:VCALENDAR