BEGIN:VCALENDAR
VERSION:2.0
METHOD:PUBLISH
PRODID:-//Accessible Web Design//My Calendar//http://www.joedolson.com//v//EN';
BEGIN:VEVENT
UID:35-31
LOCATION:
SUMMARY:Soirée Investisseur: Recherche Investisseur et levée de fonds (abonnés et invités)
DTSTAMP:20230224T200000
ORGANIZER;CN=Tim:MAILTO:sigamt@hotmail.com
DTSTART:20230224T200000
DTEND:20230224T213000
CATEGORIES:General
URL;VALUE=URI:https://reseaubienetrebusiness.ch/mc-events/soiree-investisseur-recherche-investisseur-et-levee-de-fonds-abonnes-et-invites/?mc_id=35
DESCRIPTION:
END:VEVENT
END:VCALENDAR