BEGIN:VCALENDAR
VERSION:2.0
METHOD:PUBLISH
PRODID:-//Accessible Web Design//My Calendar//http://www.joedolson.com//v//EN';
BEGIN:VEVENT
UID:45-40
LOCATION:
SUMMARY:Soirée Investisseur: Grande soirée de présentation du Club Investisseurs RBB
DTSTAMP:20230414T200000
ORGANIZER;CN=Tim:MAILTO:sigamt@hotmail.com
DTSTART:20230414T200000
DTEND:20230414T210000
CATEGORIES:General
URL;VALUE=URI:https://reseaubienetrebusiness.ch/mc-events/soiree-investisseur-grande-soiree-de-presentation-du-club-investisseurs-rbb/?mc_id=45
DESCRIPTION:
END:VEVENT
END:VCALENDAR