BEGIN:VCALENDAR
VERSION:2.0
METHOD:PUBLISH
PRODID:-//Accessible Web Design//My Calendar//http://www.joedolson.com//v//EN';
BEGIN:VEVENT
UID:58-52
LOCATION:
SUMMARY:Bilan - 6 mois de RBB
DTSTAMP:20230630T200000
ORGANIZER;CN=Tim:MAILTO:sigamt@hotmail.com
DTSTART:20230630T200000
DTEND:20230630T220000
CATEGORIES:General
URL;VALUE=URI:https://reseaubienetrebusiness.ch/mc-events/bilan-6-mois-de-rbb/?mc_id=58
DESCRIPTION:
END:VEVENT
END:VCALENDAR