BEGIN:VCALENDAR
VERSION:2.0
METHOD:PUBLISH
PRODID:-//Accessible Web Design//My Calendar//http://www.joedolson.com//v//EN';
BEGIN:VEVENT
UID:60-54
LOCATION:
SUMMARY:1er Atelier Art Oratoire
DTSTAMP:20230712T200000
ORGANIZER;CN=Tim:MAILTO:sigamt@hotmail.com
DTSTART:20230712T200000
DTEND:20230712T213000
CATEGORIES:General
URL;VALUE=URI:https://reseaubienetrebusiness.ch/mc-events/1er-atelier-art-oratoire/?mc_id=60
DESCRIPTION:
END:VEVENT
END:VCALENDAR