BEGIN:VCALENDAR
VERSION:2.0
METHOD:PUBLISH
PRODID:-//Accessible Web Design//My Calendar//http://www.joedolson.com//v//EN';
BEGIN:VEVENT
UID:63-57
LOCATION:
SUMMARY:Atelier Leadership 2
DTSTAMP:20230730T200000
ORGANIZER;CN=Tim:MAILTO:sigamt@hotmail.com
DTSTART:20230730T200000
DTEND:20230730T213000
CATEGORIES:General
URL;VALUE=URI:https://reseaubienetrebusiness.ch/mc-events/atelier-leadership-2/?mc_id=63
DESCRIPTION:
END:VEVENT
END:VCALENDAR