BEGIN:VCALENDAR
VERSION:2.0
METHOD:PUBLISH
PRODID:-//Accessible Web Design//My Calendar//http://www.joedolson.com//v//EN';
BEGIN:VEVENT
UID:77-70
LOCATION:
SUMMARY:Atelier Bilan/Objectif 6
DTSTAMP:20230906T200000
ORGANIZER;CN=Tim:MAILTO:sigamt@hotmail.com
DTSTART:20230906T200000
DTEND:20230906T213000
CATEGORIES:General
URL;VALUE=URI:https://reseaubienetrebusiness.ch/mc-events/atelier-bilan-objectif-6/?mc_id=77
DESCRIPTION:
END:VEVENT
END:VCALENDAR