BEGIN:VCALENDAR
VERSION:2.0
METHOD:PUBLISH
PRODID:-//Accessible Web Design//My Calendar//http://www.joedolson.com//v//EN';
BEGIN:VEVENT
UID:81-74
LOCATION:
SUMMARY:Réseautage: Saisir les opportunités d’affaire et d’investissement
DTSTAMP:20230922T200000
ORGANIZER;CN=Tim:MAILTO:sigamt@hotmail.com
DTSTART:20230922T200000
DTEND:20230922T213000
CATEGORIES:General
URL;VALUE=URI:https://reseaubienetrebusiness.ch/mc-events/reseautage-saisir-les-opportunites-daffaire-et-dinvestissement-11/?mc_id=81
DESCRIPTION:
END:VEVENT
END:VCALENDAR