BEGIN:VCALENDAR
VERSION:2.0
METHOD:PUBLISH
PRODID:-//Accessible Web Design//My Calendar//http://www.joedolson.com//v//EN';
BEGIN:VEVENT
UID:82-75
LOCATION:
SUMMARY:Conférence - Thème: Comment réussir sa présentation de projet en 5 min - Cédric
DTSTAMP:20230901T200000
ORGANIZER;CN=Tim:MAILTO:sigamt@hotmail.com
DTSTART:20230901T200000
DTEND:20230901T213000
CATEGORIES:General
URL;VALUE=URI:https://reseaubienetrebusiness.ch/mc-events/conference-theme-comment-reussir-sa-presentation-de-projet-en-5-min-cedric/?mc_id=82
DESCRIPTION:
END:VEVENT
END:VCALENDAR