BEGIN:VCALENDAR
VERSION:2.0
METHOD:PUBLISH
PRODID:-//Accessible Web Design//My Calendar//http://www.joedolson.com//v//EN';
BEGIN:VEVENT
UID:83-76
LOCATION:
SUMMARY:Conférence - Thème: Immigration au Canada - Par un Québécois - Jean Brutal
DTSTAMP:20230915T200000
ORGANIZER;CN=Tim:MAILTO:sigamt@hotmail.com
DTSTART:20230915T200000
DTEND:20230915T213000
CATEGORIES:General
URL;VALUE=URI:https://reseaubienetrebusiness.ch/mc-events/conference-theme-immigration-au-canada-par-un-quebecois-jean-brutal/?mc_id=83
DESCRIPTION:
END:VEVENT
END:VCALENDAR