BEGIN:VCALENDAR
VERSION:2.0
METHOD:PUBLISH
PRODID:-//Accessible Web Design//My Calendar//http://www.joedolson.com//v//EN';
BEGIN:VEVENT
UID:84-77
LOCATION:
SUMMARY:Soirée Investisseur: Levée de fonds (abonnés et invités)
DTSTAMP:20230917T180000
ORGANIZER;CN=Tim:MAILTO:sigamt@hotmail.com
DTSTART:20230917T180000
DTEND:20230917T200000
CATEGORIES:General
URL;VALUE=URI:https://reseaubienetrebusiness.ch/mc-events/soiree-investisseur-levee-de-fonds-abonnes-et-invites/?mc_id=84
DESCRIPTION:
END:VEVENT
END:VCALENDAR