BEGIN:VCALENDAR
VERSION:2.0
METHOD:PUBLISH
PRODID:-//Accessible Web Design//My Calendar//http://www.joedolson.com//v//EN';
BEGIN:VEVENT
UID:85-78
LOCATION:
SUMMARY:Rencontre d'affaire - Gabon: Saisir les opportunités d’affaire et d’investissement (abonnés et invités)
DTSTAMP:20230925T200000
ORGANIZER;CN=Tim:MAILTO:sigamt@hotmail.com
DTSTART:20230925T200000
DTEND:20230925T213000
CATEGORIES:General
URL;VALUE=URI:https://reseaubienetrebusiness.ch/mc-events/rencontre-daffaire-gabon-saisir-les-opportunites-daffaire-et-dinvestissement-abonnes-et-invites/?mc_id=85
DESCRIPTION:
END:VEVENT
END:VCALENDAR