BEGIN:VCALENDAR
VERSION:2.0
METHOD:PUBLISH
PRODID:-//Accessible Web Design//My Calendar//http://www.joedolson.com//v//EN';
BEGIN:VEVENT
UID:86-79
LOCATION:
SUMMARY:Conférence - Thème: En cours de définition - Bruno
DTSTAMP:20230929T200000
ORGANIZER;CN=Tim:MAILTO:sigamt@hotmail.com
DTSTART:20230929T200000
DTEND:20230929T213000
CATEGORIES:General
URL;VALUE=URI:https://reseaubienetrebusiness.ch/mc-events/conference-theme-en-cours-de-definition-bruno/?mc_id=86
DESCRIPTION:
END:VEVENT
END:VCALENDAR